 
 
 
 
 
 
BEGIN:VCALENDAR
VERSION:2.0
PRODID:-//Izaro ERP - ECPv5.14.1//NONSGML v1.0//EN
CALSCALE:GREGORIAN
METHOD:PUBLISH
X-ORIGINAL-URL:https://izaroerp.com
X-WR-CALDESC:Eventos para Izaro ERP
BEGIN:VTIMEZONE
TZID:Europe/Madrid
BEGIN:DAYLIGHT
TZOFFSETFROM:+0100
TZOFFSETTO:+0200
TZNAME:CEST
DTSTART:20160327T010000
END:DAYLIGHT
BEGIN:STANDARD
TZOFFSETFROM:+0200
TZOFFSETTO:+0100
TZNAME:CET
DTSTART:20161030T010000
END:STANDARD
END:VTIMEZONE
BEGIN:VEVENT
DTSTART;TZID=Europe/Madrid:20161125T000000
DTEND;TZID=Europe/Madrid:20161125T130000
DTSTAMP:20260421T103848
CREATED:20160920T104143Z
LAST-MODIFIED:20161118T120729Z
UID:4296-1480032000-1480078800@izaroerp.com
SUMMARY:Webinar Izaro Automotive ERP
DESCRIPTION:-Gestión de Proyectos\n-Gestión completa EDI\n-Prototipos\, Muestras\, Pre-series\, Series y Recambios\n-Contenedores\, Embalajes y Etiquetados\n-Embalajes Retornables. Facturación\n-Almacenes en Consignación: Ventas / Compras\n-Trazabilidad y Calidad\n-Autofacturación y Facturas por Diferencias de Precios
URL:https://izaroerp.com/webinars/webinar-izaro-automotive-erp/2016-11-25/
LOCATION:Internet
CATEGORIES:Área fabricación,Izaro ERP Automotive,Sector automoción
END:VEVENT
END:VCALENDAR