 
 
 
 
 
 
BEGIN:VCALENDAR
VERSION:2.0
PRODID:-//Izaro ERP - ECPv5.14.1//NONSGML v1.0//EN
CALSCALE:GREGORIAN
METHOD:PUBLISH
X-ORIGINAL-URL:https://izaroerp.com
X-WR-CALDESC:Eventos para Izaro ERP
BEGIN:VTIMEZONE
TZID:Europe/Madrid
BEGIN:DAYLIGHT
TZOFFSETFROM:+0100
TZOFFSETTO:+0200
TZNAME:CEST
DTSTART:20190331T010000
END:DAYLIGHT
BEGIN:STANDARD
TZOFFSETFROM:+0200
TZOFFSETTO:+0100
TZNAME:CET
DTSTART:20191027T010000
END:STANDARD
END:VTIMEZONE
BEGIN:VEVENT
DTSTART;TZID=Europe/Madrid:20191129T110000
DTEND;TZID=Europe/Madrid:20191129T113000
DTSTAMP:20260421T103638
CREATED:20190729T080248Z
LAST-MODIFIED:20210210T090816Z
UID:6113-1575025200-1575027000@izaroerp.com
SUMMARY:Webinar: Wifi Segura y Segmentación
DESCRIPTION:Wifi Segura y Segmentación\nCuando una empresa permite conectividad inalámbrica a empleados\, clientes o cualquier visitante externo\, el campo de ataque potencial se amplía exponencialmente.\n\nOfrecer Wifi a las visitas. Conectar los dispositivos móviles de los empleados a la Wifi empresarial. Ampliar la red local mediante puntos de acceso Wifi. Punto de acceso para soluciones Wifi en WMS. Las nuevas innovaciones y los nuevos modelos de negocio están permitiendo nuevos tipos de productividad\, ventajas competitivas que impulsan la eficiencia en los recursos de conectividad de una empresa. Pero… ¿Tiene sentido que todo el mundo tenga acceso a todos los recursos? La wifi segura junto con la segmentación permite seleccionar que recursos son visibles desde cada red.\nEl 62% de los ciberataques tienen como principal foco las pequeñas y medianas empresas\, alrededor de 4.000 incidentes al día a nivel mundial. \nPROGRAMA:\n     • Consideraciones de seguridad\n     • Buenas prácticas.\n     • Limitar el espectro de ataque.
URL:https://izaroerp.com/webinars/webinar-wifi-segura-segmentacion/
END:VEVENT
END:VCALENDAR